BEGIN:VCALENDAR
VERSION:2.0
PRODID:www.dzs.cz
BEGIN:VEVENT
UID:69e9f8aa1f4af
DTSTART;VALUE=DATE:20211115
SEQUENCE:0
TRANSP:OPAQUE
DTEND;VALUE=DATE:20211117
URL:https://www.dzs.cz/udalost/online-konference-marie-sklodowska-curie-fos
 tering-balanced-mobility-flows-europe
SUMMARY:Event: Web Conference Marie Sklodowska Curie: \"Fostering Balanced 
 Mobility Flows in Europe\" 
CLASS:PUBLIC
X-MICROSOFT-CDO-ALLDAYEVENT:TRUE
DTSTAMP:20260423T104706Z
END:VEVENT
END:VCALENDAR