BEGIN:VCALENDAR
VERSION:2.0
PRODID:www.dzs.cz
BEGIN:VEVENT
UID:69e9eb21b7109
DTSTART:20211027T160000Z
SEQUENCE:0
TRANSP:OPAQUE
DTEND:20211027T170000Z
URL:https://www.dzs.cz/udalost/webinar-epale-vyuziti-microlearningu-ve-vzde
 lavani-dospelych
SUMMARY:Event: Webinář EPALE: Využití microlearningu ve vzdělávání 
 dospělých
CLASS:PUBLIC
DTSTAMP:20260423T094921Z
END:VEVENT
END:VCALENDAR