BEGIN:VCALENDAR
VERSION:2.0
PRODID:www.dzs.cz
BEGIN:VEVENT
UID:69ea049aeed5f
DTSTART;VALUE=DATE:20211029
SEQUENCE:0
TRANSP:OPAQUE
DTEND;VALUE=DATE:20211031
URL:https://www.dzs.cz/udalost/european-higher-education-fair-japan-2021-vi
 rtual
SUMMARY:Event: European Higher Education Fair Japan 2021 (virtual)
CLASS:PUBLIC
X-MICROSOFT-CDO-ALLDAYEVENT:TRUE
DTSTAMP:20260423T113802Z
END:VEVENT
END:VCALENDAR