BEGIN:VCALENDAR
VERSION:2.0
PRODID:www.dzs.cz
BEGIN:VEVENT
UID:69ea049b68679
DTSTART;VALUE=DATE:20211124
SEQUENCE:0
TRANSP:OPAQUE
DTEND;VALUE=DATE:20211126
URL:https://www.dzs.cz/udalost/eic-summit-2021
SUMMARY:Event: EIC Summit 2021
CLASS:PUBLIC
X-MICROSOFT-CDO-ALLDAYEVENT:TRUE
DTSTAMP:20260423T113803Z
END:VEVENT
END:VCALENDAR