BEGIN:VCALENDAR
VERSION:2.0
PRODID:www.dzs.cz
BEGIN:VEVENT
UID:69e9eabc78fbc
DTSTART:20230301T140000Z
SEQUENCE:0
TRANSP:OPAQUE
DTEND:20230301T150000Z
URL:https://www.dzs.cz/de/node/2402
SUMMARY:Event: AKTION Ö-CZ: Webinar des OeAD zur Projektförderung der Akt
 ion
CLASS:PUBLIC
DTSTAMP:20260423T094740Z
END:VEVENT
END:VCALENDAR