BEGIN:VCALENDAR
VERSION:2.0
PRODID:www.dzs.cz
BEGIN:VEVENT
UID:69ea03b360d05
DTSTART:20211005T120000Z
SEQUENCE:0
TRANSP:OPAQUE
DTEND:20211005T130000Z
URL:https://www.dzs.cz/udalost/odborne-vzdelavani-online-konzultace-pro-zad
 atele-o-akreditaci-vyzva-2021-0
SUMMARY:Event: ODBORNÉ VZDĚLÁVÁNÍ: Online konzultace pro žadatele o a
 kreditaci\, Výzva 2021
CLASS:PUBLIC
DTSTAMP:20260423T113411Z
END:VEVENT
END:VCALENDAR