BEGIN:VCALENDAR
VERSION:2.0
PRODID:www.dzs.cz
BEGIN:VEVENT
UID:69e9eda180ba5
DTSTART;VALUE=DATE:20211112
SEQUENCE:0
TRANSP:OPAQUE
DTEND;VALUE=DATE:20211115
URL:https://www.dzs.cz/udalost/europe-goes-local-2021-prihlaste-se-do-15-9-
 2021
SUMMARY:Event: Europe Goes Local 2021! Přihlaste se do 15. 9. 2021
CLASS:PUBLIC
X-MICROSOFT-CDO-ALLDAYEVENT:TRUE
DTSTAMP:20260423T100001Z
END:VEVENT
END:VCALENDAR