BEGIN:VCALENDAR
VERSION:2.0
PRODID:www.dzs.cz
BEGIN:VEVENT
UID:69ea041410cfe
DTSTART:20210914T070000Z
SEQUENCE:0
TRANSP:OPAQUE
DTEND:20210914T120000Z
URL:https://www.dzs.cz/udalost/regionalni-seminar-epale-2021-digitalni-tran
 sformace-vzdelavani-dospelych-v-prikladech
SUMMARY:Event: Regionální seminář EPALE 2021 Digitální transformace v
 zdělávání dospělých v příkladech PRAHA
CLASS:PUBLIC
DTSTAMP:20260423T113548Z
END:VEVENT
END:VCALENDAR