BEGIN:VCALENDAR
VERSION:2.0
PRODID:www.dzs.cz
BEGIN:VEVENT
UID:69e9d86231639
DTSTART;VALUE=DATE:20210915
SEQUENCE:0
TRANSP:OPAQUE
DTEND;VALUE=DATE:20210918
URL:https://www.dzs.cz/udalost/informacni-den-k-evropskemu-obrannemu-fondu
SUMMARY:Event: Informační den k Evropskému obrannému fondu
CLASS:PUBLIC
X-MICROSOFT-CDO-ALLDAYEVENT:TRUE
DTSTAMP:20260423T082922Z
END:VEVENT
END:VCALENDAR