BEGIN:VCALENDAR
VERSION:2.0
PRODID:www.dzs.cz
BEGIN:VEVENT
UID:69ea9d1fe9aa3
DTSTART;VALUE=DATE:20210503
SEQUENCE:0
TRANSP:OPAQUE
DTEND;VALUE=DATE:20210614
URL:https://www.dzs.cz/udalost/evropsky-zeleny-tyden-2021
SUMMARY:Event: Evropský Zelený týden 2021
CLASS:PUBLIC
X-MICROSOFT-CDO-ALLDAYEVENT:TRUE
DTSTAMP:20260423T222847Z
END:VEVENT
END:VCALENDAR