BEGIN:VCALENDAR
VERSION:2.0
PRODID:www.dzs.cz
BEGIN:VEVENT
UID:69eaaa89810cc
DTSTART;VALUE=DATE:20210513
SEQUENCE:0
TRANSP:OPAQUE
DTEND;VALUE=DATE:20210519
URL:https://www.dzs.cz/udalost/skolni-vzdelavani-skupinove-konzultace-pro-z
 adatele-o-partnerstvi-pro-spolupraci-ka2
SUMMARY:Event: ŠKOLNÍ VZDĚLÁVÁNÍ: Skupinové konzultace pro žadatele
  o Partnerství pro spolupráci (KA2)
CLASS:PUBLIC
X-MICROSOFT-CDO-ALLDAYEVENT:TRUE
DTSTAMP:20260423T232601Z
END:VEVENT
END:VCALENDAR