BEGIN:VCALENDAR
VERSION:2.0
PRODID:www.dzs.cz
BEGIN:VEVENT
UID:69e9ed6bcd006
DTSTART:20210422T080000Z
SEQUENCE:0
TRANSP:OPAQUE
DTEND:20210422T120000Z
URL:https://www.dzs.cz/udalost/mladez-webinar-pro-predkladani-zadosti-ka2
SUMMARY:Event: MLÁDEŽ: Webinář pro předkládání žádostí KA2
CLASS:PUBLIC
DTSTAMP:20260423T095907Z
END:VEVENT
END:VCALENDAR