BEGIN:VCALENDAR
VERSION:2.0
PRODID:www.dzs.cz
BEGIN:VEVENT
UID:69e9d8757130f
DTSTART;VALUE=DATE:20210928
SEQUENCE:0
TRANSP:OPAQUE
DTEND;VALUE=DATE:20211002
URL:https://www.dzs.cz/udalost/2021-eaie-community-exchange-virtual-confere
 nce-exhibition
SUMMARY:Event: 2021 EAIE Community Exchange: virtual conference & exhibitio
 n
CLASS:PUBLIC
X-MICROSOFT-CDO-ALLDAYEVENT:TRUE
DTSTAMP:20260423T082941Z
END:VEVENT
END:VCALENDAR