BEGIN:VCALENDAR
VERSION:2.0
PRODID:www.dzs.cz
BEGIN:VEVENT
UID:69ea02dfe7eab
DTSTART:20260623T083000Z
SEQUENCE:0
TRANSP:OPAQUE
DTEND:20260623T140000Z
URL:https://www.dzs.cz/udalost/vzdelavani-dospelych-seminar-pro-zadatele-o-
 akreditaci-erasmus-vzdelavani-dospelych
SUMMARY:Event: VZDĚLÁVÁNÍ DOSPĚLÝCH: Seminář pro žadatele o akredi
 taci Erasmus+ vzdělávání dospělých
CLASS:PUBLIC
DTSTAMP:20260423T113039Z
END:VEVENT
END:VCALENDAR