BEGIN:VCALENDAR
VERSION:2.0
PRODID:www.dzs.cz
BEGIN:VEVENT
UID:69ea02e020f7c
DTSTART:20260610T080000Z
SEQUENCE:0
TRANSP:OPAQUE
DTEND:20260610T093000Z
URL:https://www.dzs.cz/udalost/vzdelavani-dospelych-informacni-webinar-pro-
 zadatele-o-akreditaci-erasmus-vzdelavani
SUMMARY:Event: VZDĚLÁVÁNÍ DOSPĚLÝCH: Informační webinář pro žada
 tele o akreditaci Erasmus+ vzdělávání dospělých
CLASS:PUBLIC
DTSTAMP:20260423T113040Z
END:VEVENT
END:VCALENDAR