BEGIN:VCALENDAR
VERSION:2.0
PRODID:www.dzs.cz
BEGIN:VEVENT
UID:69e9d8a374bdc
DTSTART:20260410T073000Z
SEQUENCE:0
TRANSP:OPAQUE
DTEND:20260410T123000Z
URL:https://www.dzs.cz/udalost/regionalni-seminar-epale-2026-jihlava
SUMMARY:Event: Regionální seminář EPALE 2026 Jihlava
CLASS:PUBLIC
DTSTAMP:20260423T083027Z
END:VEVENT
END:VCALENDAR