BEGIN:VCALENDAR
VERSION:2.0
PRODID:www.dzs.cz
BEGIN:VEVENT
UID:69ea9d48d00d2
DTSTART;VALUE=DATE:20210201
SEQUENCE:0
TRANSP:OPAQUE
DTEND;VALUE=DATE:20210208
URL:https://www.dzs.cz/udalost/follow-2020-webinar-and-workshop-week
SUMMARY:Event: Follow up 2020 – Webinar and Workshop Week
CLASS:PUBLIC
X-MICROSOFT-CDO-ALLDAYEVENT:TRUE
DTSTAMP:20260423T222928Z
END:VEVENT
END:VCALENDAR