BEGIN:VCALENDAR
VERSION:2.0
PRODID:www.dzs.cz
BEGIN:VEVENT
UID:69e9eda3d03d2
DTSTART;VALUE=DATE:20251210
SEQUENCE:0
TRANSP:OPAQUE
DTEND;VALUE=DATE:20251211
URL:https://www.dzs.cz/udalost/workshop-odolnost-zdravotnich-systemu-pro-st
 arnouci-populaci-eu
SUMMARY:Event: Workshop Odolnost zdravotních systémů pro stárnoucí pop
 ulaci EU  
CLASS:PUBLIC
X-MICROSOFT-CDO-ALLDAYEVENT:TRUE
DTSTAMP:20260423T100003Z
END:VEVENT
END:VCALENDAR