BEGIN:VCALENDAR
VERSION:2.0
PRODID:www.dzs.cz
BEGIN:VEVENT
UID:69e9ede03664f
DTSTART;VALUE=DATE:20251201
SEQUENCE:0
TRANSP:OPAQUE
DTEND;VALUE=DATE:20251203
URL:https://www.dzs.cz/udalost/konference-vyznam-humanitnich-spolecenskych-
 ved-v-evropskych-transformacich-odolnosti
SUMMARY:Event: Konference Význam humanitních a společenských věd v evr
 opských transformacích a odolnosti  
CLASS:PUBLIC
X-MICROSOFT-CDO-ALLDAYEVENT:TRUE
DTSTAMP:20260423T100104Z
END:VEVENT
END:VCALENDAR