BEGIN:VCALENDAR
VERSION:2.0
PRODID:www.dzs.cz
BEGIN:VEVENT
UID:69e9d8a631e7d
DTSTART:20260204T130000Z
SEQUENCE:0
TRANSP:OPAQUE
DTEND:20260204T150000Z
URL:https://www.dzs.cz/udalost/online-konzultace-czelo-k-centralizovanym-pr
 ojektum-erasmus-sport-2-termin
SUMMARY:Event: Online konzultace CZELO k centralizovaným projektům Erasmu
 s+ Sport (2. termín)
CLASS:PUBLIC
DTSTAMP:20260423T083030Z
END:VEVENT
END:VCALENDAR