BEGIN:VCALENDAR
VERSION:2.0
PRODID:www.dzs.cz
BEGIN:VEVENT
UID:69ea4e1fbaae6
DTSTART:20251215T090000Z
SEQUENCE:0
TRANSP:OPAQUE
DTEND:20251215T110000Z
URL:https://www.dzs.cz/udalost/online-konzultace-czelo-k-projektum-erasmus-
 mundus
SUMMARY:Event: Online konzultace CZELO k projektům Erasmus Mundus
CLASS:PUBLIC
DTSTAMP:20260423T165143Z
END:VEVENT
END:VCALENDAR