BEGIN:VCALENDAR
VERSION:2.0
PRODID:www.dzs.cz
BEGIN:VEVENT
UID:69e9d8647e6e6
DTSTART:20260205T130000Z
SEQUENCE:0
TRANSP:OPAQUE
DTEND:20260205T153000Z
URL:https://www.dzs.cz/udalost/webinar-tipy-k-zadosti-pro-zajemce-o-solidar
 ni-projekty-esc30
SUMMARY:Event: Webinář: Tipy k žádosti pro zájemce o solidární proje
 kty ESC30
CLASS:PUBLIC
DTSTAMP:20260423T082924Z
END:VEVENT
END:VCALENDAR