BEGIN:VCALENDAR
VERSION:2.0
PRODID:www.dzs.cz
BEGIN:VEVENT
UID:69e9d8a546d14
DTSTART:20250929T130000Z
SEQUENCE:0
TRANSP:OPAQUE
DTEND:20250929T143000Z
URL:https://www.dzs.cz/udalost/skolni-vzdelavani-online-partner-finding-fai
 r
SUMMARY:Event: ŠKOLNÍ VZDĚLÁVÁNÍ: Online partner finding fair
CLASS:PUBLIC
DTSTAMP:20260423T083029Z
END:VEVENT
END:VCALENDAR