BEGIN:VCALENDAR
VERSION:2.0
PRODID:www.dzs.cz
BEGIN:VEVENT
UID:69ea040048141
DTSTART;VALUE=DATE:20250624
SEQUENCE:0
TRANSP:OPAQUE
DTEND;VALUE=DATE:20250625
URL:https://www.dzs.cz/udalost/informacni-webinar-pro-zajemce-o-znacku-kval
 ity-quality-label-pro-dobrovolnictvi-v-oblasti
SUMMARY:Event: Informační webinář pro zájemce o značku kvality (Quali
 ty Label) pro Dobrovolnictví v oblasti humanitární pomoci
CLASS:PUBLIC
X-MICROSOFT-CDO-ALLDAYEVENT:TRUE
DTSTAMP:20260423T113528Z
END:VEVENT
END:VCALENDAR