BEGIN:VCALENDAR
VERSION:2.0
PRODID:www.dzs.cz
BEGIN:VEVENT
UID:69e9ed803fb0b
DTSTART;VALUE=DATE:20251009
SEQUENCE:0
TRANSP:OPAQUE
DTEND;VALUE=DATE:20251021
URL:https://www.dzs.cz/udalost/sport-sportovni-akademie-erasmus-sport
SUMMARY:Event: SPORT | Sportovní akademie Erasmus+ Sport
CLASS:PUBLIC
X-MICROSOFT-CDO-ALLDAYEVENT:TRUE
DTSTAMP:20260423T095928Z
END:VEVENT
END:VCALENDAR