BEGIN:VCALENDAR
VERSION:2.0
PRODID:www.dzs.cz
BEGIN:VEVENT
UID:69e9d882e4162
DTSTART:20250604T110000Z
SEQUENCE:0
TRANSP:OPAQUE
DTEND:20250604T130000Z
URL:https://www.dzs.cz/udalost/individualni-konzultace-k-zadosti-o-quality-
 label-evropskeho-sboru-solidarity-3
SUMMARY:Event: Individuální konzultace k žádosti o Quality Label Evrops
 kého sboru solidarity
CLASS:PUBLIC
DTSTAMP:20260423T082954Z
END:VEVENT
END:VCALENDAR