BEGIN:VCALENDAR
VERSION:2.0
PRODID:www.dzs.cz
BEGIN:VEVENT
UID:69e9d89b54338
DTSTART;VALUE=DATE:20250624
SEQUENCE:0
TRANSP:OPAQUE
DTEND;VALUE=DATE:20250626
URL:https://www.dzs.cz/udalost/security-research-event-2025
SUMMARY:Event: Security Research Event 2025
CLASS:PUBLIC
X-MICROSOFT-CDO-ALLDAYEVENT:TRUE
DTSTAMP:20260423T083019Z
END:VEVENT
END:VCALENDAR