BEGIN:VCALENDAR
VERSION:2.0
PRODID:www.dzs.cz
BEGIN:VEVENT
UID:69e9bc869f866
DTSTART;VALUE=DATE:20250513
SEQUENCE:0
TRANSP:OPAQUE
DTEND;VALUE=DATE:20250517
URL:https://www.dzs.cz/udalost/european-defence-innovation-days
SUMMARY:Event: European Defence Innovation Days
CLASS:PUBLIC
X-MICROSOFT-CDO-ALLDAYEVENT:TRUE
DTSTAMP:20260423T063030Z
END:VEVENT
END:VCALENDAR