BEGIN:VCALENDAR
VERSION:2.0
PRODID:www.dzs.cz
BEGIN:VEVENT
UID:69e9af8bc3f30
DTSTART:20250220T090000Z
SEQUENCE:0
TRANSP:OPAQUE
DTEND:20250220T110000Z
URL:https://www.dzs.cz/udalost/online-infowebinar-eacea-centra-excelence-od
 borneho-vzdelavani
SUMMARY:Event: Online infowebinář EACEA: Centra excelence odborného vzd
 ělávání
CLASS:PUBLIC
DTSTAMP:20260423T053507Z
END:VEVENT
END:VCALENDAR