BEGIN:VCALENDAR
VERSION:2.0
PRODID:www.dzs.cz
BEGIN:VEVENT
UID:69ea00e10b14e
DTSTART:20201215T100000Z
SEQUENCE:0
TRANSP:OPAQUE
DTEND:20201215T110000Z
URL:https://www.dzs.cz/udalost/informacni-webinar-pro-zadatele-o-stipendium
 -barrande-fellowships
SUMMARY:Event: Informační webinář pro žadatele o stipendium Barrande F
 ellowships
CLASS:PUBLIC
DTSTAMP:20260423T112209Z
END:VEVENT
END:VCALENDAR