BEGIN:VCALENDAR
VERSION:2.0
PRODID:www.dzs.cz
BEGIN:VEVENT
UID:69ea04004136f
DTSTART;VALUE=DATE:20250114
SEQUENCE:0
TRANSP:OPAQUE
DTEND;VALUE=DATE:20250115
URL:https://www.dzs.cz/udalost/online-konzultace-czelo-k-projektum-jean-mon
 net-pro-zakladni-stredni-skoly-2-termin
SUMMARY:Event: Online konzultace CZELO k projektům Jean Monnet pro základ
 ní a střední školy (2. termín)
CLASS:PUBLIC
X-MICROSOFT-CDO-ALLDAYEVENT:TRUE
DTSTAMP:20260423T113528Z
END:VEVENT
END:VCALENDAR