BEGIN:VCALENDAR
VERSION:2.0
PRODID:www.dzs.cz
BEGIN:VEVENT
UID:69ea03ef15791
DTSTART:20250123T130000Z
SEQUENCE:0
TRANSP:OPAQUE
DTEND:20250123T143000Z
URL:https://www.dzs.cz/udalost/skolni-vzdelavani-online-konzultacni-hodiny-
 k-podavavani-zadosti-o-kratkodobe-projekty
SUMMARY:Event: ŠKOLNÍ VZDĚLÁVÁNÍ: Online konzultační hodiny k podá
 vávání žádosti o Krátkodobé projekty mobilit (KA122)
CLASS:PUBLIC
DTSTAMP:20260423T113511Z
END:VEVENT
END:VCALENDAR