BEGIN:VCALENDAR
VERSION:2.0
PRODID:www.dzs.cz
BEGIN:VEVENT
UID:69e9ce3a50198
DTSTART:20241018T070000Z
SEQUENCE:0
TRANSP:OPAQUE
DTEND:20241018T120000Z
URL:https://www.dzs.cz/udalost/regionalni-seminar-epale-hradec-kralove-dove
 dnosti-dospelych-jejich-rozvoj
SUMMARY:Event: Regionální seminář EPALE - Hradec Králové - Dovednosti
  dospělých a jejich rozvoj
CLASS:PUBLIC
DTSTAMP:20260423T074602Z
END:VEVENT
END:VCALENDAR