BEGIN:VCALENDAR
VERSION:2.0
PRODID:www.dzs.cz
BEGIN:VEVENT
UID:69e9edb341470
DTSTART;VALUE=DATE:20241112
SEQUENCE:0
TRANSP:OPAQUE
DTEND;VALUE=DATE:20241115
URL:https://www.dzs.cz/udalost/european-mission-soil-week-2024
SUMMARY:Event: European Mission Soil Week 2024
CLASS:PUBLIC
X-MICROSOFT-CDO-ALLDAYEVENT:TRUE
DTSTAMP:20260423T100019Z
END:VEVENT
END:VCALENDAR