BEGIN:VCALENDAR
VERSION:2.0
PRODID:www.dzs.cz
BEGIN:VEVENT
UID:69e9eda215358
DTSTART:20240606T070000Z
SEQUENCE:0
TRANSP:OPAQUE
DTEND:20240606T120000Z
URL:https://www.dzs.cz/udalost/pristi-stanice-svet-den-mezinarodniho-vzdela
 vani-0
SUMMARY:Event: Příští stanice svět | Den mezinárodního vzděláván
 í
CLASS:PUBLIC
DTSTAMP:20260423T100002Z
END:VEVENT
END:VCALENDAR