BEGIN:VCALENDAR
VERSION:2.0
PRODID:www.dzs.cz
BEGIN:VEVENT
UID:69ea41c2c3b8c
DTSTART:20240429T083000Z
SEQUENCE:0
TRANSP:OPAQUE
DTEND:20240429T120000Z
URL:https://www.dzs.cz/udalost/akcniho-plan-digitalniho-vzdelavani-prubezne
 -hodnoceni
SUMMARY:Event: Akčního plán digitálního vzdělávání -  průběžné
  hodnocení
CLASS:PUBLIC
DTSTAMP:20260423T155858Z
END:VEVENT
END:VCALENDAR