BEGIN:VCALENDAR
VERSION:2.0
PRODID:www.dzs.cz
BEGIN:VEVENT
UID:69ea3a10c570d
DTSTART:20241101T083000Z
SEQUENCE:0
TRANSP:OPAQUE
DTEND:20241102T120000Z
URL:https://www.dzs.cz/udalost/vyrocni-setkani-evropskeho-sboru-solidarity-
 2024
SUMMARY:Event: Výroční setkání Evropského sboru solidarity 2024
CLASS:PUBLIC
DTSTAMP:20260423T152608Z
END:VEVENT
END:VCALENDAR