BEGIN:VCALENDAR
VERSION:2.0
PRODID:www.dzs.cz
BEGIN:VEVENT
UID:69ea0445b8323
DTSTART:20231213T130000Z
SEQUENCE:0
TRANSP:OPAQUE
DTEND:20231213T150000Z
URL:https://www.dzs.cz/udalost/skolni-vzdelavani-webinar-pro-zajemce-o-krat
 kodobe-projekty-mobilit-erasmus-ka122-sch
SUMMARY:Event: ŠKOLNÍ VZDĚLÁVÁNÍ: Webinář pro zájemce o Krátkodob
 é projekty mobilit Erasmus+ (KA122-SCH)
CLASS:PUBLIC
DTSTAMP:20260423T113637Z
END:VEVENT
END:VCALENDAR