BEGIN:VCALENDAR
VERSION:2.0
PRODID:www.dzs.cz
BEGIN:VEVENT
UID:69e9eda36b2ab
DTSTART:20231205T083000Z
SEQUENCE:0
TRANSP:OPAQUE
DTEND:20231205T120000Z
URL:https://www.dzs.cz/udalost/konference-women-and-girls-stem-forum
SUMMARY:Event: Konference Women and Girls in STEM Forum
CLASS:PUBLIC
DTSTAMP:20260423T100003Z
END:VEVENT
END:VCALENDAR