BEGIN:VCALENDAR
VERSION:2.0
PRODID:www.dzs.cz
BEGIN:VEVENT
UID:69e9ed81e196d
DTSTART:20231130T084500Z
SEQUENCE:0
TRANSP:OPAQUE
DTEND:20231130T113000Z
URL:https://www.dzs.cz/udalost/infowebinar-eacea-budovani-kapacit-ve-vysoko
 skolskem-vzdelavani
SUMMARY:Event: Infowebinář EACEA Budování kapacit ve vysokoškolském v
 zdělávání
CLASS:PUBLIC
DTSTAMP:20260423T095929Z
END:VEVENT
END:VCALENDAR