BEGIN:VCALENDAR
VERSION:2.0
PRODID:www.dzs.cz
BEGIN:VEVENT
UID:69e9eda24e089
DTSTART;VALUE=DATE:20231012
SEQUENCE:0
TRANSP:OPAQUE
DTEND;VALUE=DATE:20231013
URL:https://www.dzs.cz/en/event/international-student-and-alumni-meetup-ost
 rava
SUMMARY:Event: International Student and Alumni Meetup Ostrava
CLASS:PUBLIC
X-MICROSOFT-CDO-ALLDAYEVENT:TRUE
DTSTAMP:20260423T100002Z
END:VEVENT
END:VCALENDAR