BEGIN:VCALENDAR
VERSION:2.0
PRODID:www.dzs.cz
BEGIN:VEVENT
UID:69e9ed80da2a9
DTSTART;VALUE=DATE:20231130
SEQUENCE:0
TRANSP:OPAQUE
DTEND;VALUE=DATE:20231201
URL:https://www.dzs.cz/udalost/6-evropsky-summit-pro-vzdelavani
SUMMARY:Event: 6. Evropský summit pro vzdělávání
CLASS:PUBLIC
X-MICROSOFT-CDO-ALLDAYEVENT:TRUE
DTSTAMP:20260423T095928Z
END:VEVENT
END:VCALENDAR