BEGIN:VCALENDAR
VERSION:2.0
PRODID:www.dzs.cz
BEGIN:VEVENT
UID:69e9bc476da5b
DTSTART:20230913T113000Z
SEQUENCE:0
TRANSP:OPAQUE
DTEND:20230913T143000Z
URL:https://www.dzs.cz/en/event/discover-english-language-learning-opportun
 ities-ireland-through-erasmus
SUMMARY:Event: Erasmus+ Setkání s irskými jazykovými školami 
CLASS:PUBLIC
DTSTAMP:20260423T062927Z
END:VEVENT
END:VCALENDAR