BEGIN:VCALENDAR
VERSION:2.0
PRODID:www.dzs.cz
BEGIN:VEVENT
UID:69e9d85e0c12f
DTSTART:20230907T140000Z
SEQUENCE:0
TRANSP:OPAQUE
DTEND:20230907T150000Z
URL:https://www.dzs.cz/udalost/informacni-webinar-discovereu-jizda-k-zaclen
 eni-1
SUMMARY:Event: Informační webinář DiscoverEU – jízda k začlenění
CLASS:PUBLIC
DTSTAMP:20260423T082918Z
END:VEVENT
END:VCALENDAR