BEGIN:VCALENDAR
VERSION:2.0
PRODID:www.dzs.cz
BEGIN:VEVENT
UID:69e9edb251658
DTSTART:20230529T080000Z
SEQUENCE:0
TRANSP:OPAQUE
DTEND:20230531T100000Z
URL:https://www.dzs.cz/udalost/cyklus-webinaru-ceepus
SUMMARY:Event: Cyklus webinářů CEEPUS
CLASS:PUBLIC
DTSTAMP:20260423T100018Z
END:VEVENT
END:VCALENDAR