BEGIN:VCALENDAR
VERSION:2.0
PRODID:www.dzs.cz
BEGIN:VEVENT
UID:69ea044651bf5
DTSTART;VALUE=DATE:20230801
SEQUENCE:0
TRANSP:OPAQUE
DTEND;VALUE=DATE:20231101
URL:https://www.dzs.cz/udalost/europe-goes-local-2023
SUMMARY:Event: Europe Goes Local 2023
CLASS:PUBLIC
X-MICROSOFT-CDO-ALLDAYEVENT:TRUE
DTSTAMP:20260423T113638Z
END:VEVENT
END:VCALENDAR