BEGIN:VCALENDAR
VERSION:2.0
PRODID:www.dzs.cz
BEGIN:VEVENT
UID:69e9eddf33df8
DTSTART:20230209T140000Z
SEQUENCE:0
TRANSP:OPAQUE
DTEND:20230209T160000Z
URL:https://www.dzs.cz/udalost/tipy-k-zadosti-o-solidarni-projekty
SUMMARY:Event: Tipy k žádosti o solidární projekty
CLASS:PUBLIC
DTSTAMP:20260423T100103Z
END:VEVENT
END:VCALENDAR