BEGIN:VCALENDAR
VERSION:2.0
PRODID:www.dzs.cz
BEGIN:VEVENT
UID:69ea03df9c480
DTSTART:20240130T090000Z
SEQUENCE:0
TRANSP:OPAQUE
DTEND:20240130T110000Z
URL:https://www.dzs.cz/udalost/informacni-webinar-o-nabidce-stipendii-proje
 ktu-mezinarodni-spoluprace-0
SUMMARY:Event: Informační webinář o nabídce stipendií a projektů mez
 inárodní spolupráce
CLASS:PUBLIC
DTSTAMP:20260423T113455Z
END:VEVENT
END:VCALENDAR