BEGIN:VCALENDAR
VERSION:2.0
PRODID:www.dzs.cz
BEGIN:VEVENT
UID:69e9ed6b8dd1b
DTSTART:20221213T120000Z
SEQUENCE:0
TRANSP:OPAQUE
DTEND:20221213T150000Z
URL:https://www.dzs.cz/udalost/informacni-seminar-k-programu-erasmus-sport
SUMMARY:Event: Informační seminář k programu Erasmus+ Sport
CLASS:PUBLIC
DTSTAMP:20260423T095907Z
END:VEVENT
END:VCALENDAR