BEGIN:VCALENDAR
VERSION:2.0
PRODID:www.dzs.cz
BEGIN:VEVENT
UID:69ea03df67719
DTSTART:20230119T130000Z
SEQUENCE:0
TRANSP:OPAQUE
DTEND:20230119T150000Z
URL:https://www.dzs.cz/udalost/informacni-webinar-k-solidarnim-projektum
SUMMARY:Event: Informační webinář k solidárním projektům
CLASS:PUBLIC
DTSTAMP:20260423T113455Z
END:VEVENT
END:VCALENDAR